﻿BEGIN:VCALENDAR
VERSION:2.0
PRODID:spatie/icalendar-generator
DESCRIPTION:Veranstaltungen von BrHiKo
X-WR-CALDESC:Veranstaltungen von BrHiKo
REFRESH-INTERVAL;VALUE=DURATION:PT1440M
X-PUBLISHED-TTL:PT1440M
BEGIN:VTIMEZONE
TZID:Europe/Berlin
BEGIN:STANDARD
DTSTART:20241027T030000Z
TZOFFSETFROM:+0200
TZOFFSETTO:+0100
END:STANDARD
BEGIN:DAYLIGHT
DTSTART:20250330T020000Z
TZOFFSETFROM:+0100
TZOFFSETTO:+0200
END:DAYLIGHT
END:VTIMEZONE
BEGIN:VTIMEZONE
TZID:UTC
BEGIN:STANDARD
DTSTART:20250724T101734Z
TZOFFSETFROM:+0000
TZOFFSETTO:+0000
END:STANDARD
END:VTIMEZONE
BEGIN:VEVENT
UID:3-3
DTSTAMP:20260420T101734Z
SUMMARY:Potsdamer Geschichtstreff
LOCATION:Brandenburg Museum für Zukunft\, Gegenwart und Geschichte\, Gewö
 lbehalle
ORGANIZER;CN=brhiko.de:MAILTO:vinzenz.czech@uni-potsdam.de
DTSTART;TZID=Europe/Berlin;VALUE=DATE:20250223
DTEND;TZID=Europe/Berlin;VALUE=DATE:20250224
X-ALT-DESC;FMTTYPE=TEXT/HTML:
CATEGORIES:General
URL;VALUE=URI:https://brhiko.de/mc-events/potsdamer-geschichtstreff/
METHOD:PUBLISH
END:VEVENT
END:VCALENDAR