﻿BEGIN:VCALENDAR
VERSION:2.0
PRODID:spatie/icalendar-generator
DESCRIPTION:Veranstaltungen von BrHiKo
X-WR-CALDESC:Veranstaltungen von BrHiKo
REFRESH-INTERVAL;VALUE=DURATION:PT1440M
X-PUBLISHED-TTL:PT1440M
BEGIN:VTIMEZONE
TZID:Europe/Berlin
BEGIN:DAYLIGHT
DTSTART:20250330T020000Z
TZOFFSETFROM:+0100
TZOFFSETTO:+0200
END:DAYLIGHT
BEGIN:STANDARD
DTSTART:20251026T030000Z
TZOFFSETFROM:+0200
TZOFFSETTO:+0100
END:STANDARD
BEGIN:DAYLIGHT
DTSTART:20260329T020000Z
TZOFFSETFROM:+0100
TZOFFSETTO:+0200
END:DAYLIGHT
END:VTIMEZONE
BEGIN:VTIMEZONE
TZID:UTC
BEGIN:STANDARD
DTSTART:20250724T082410Z
TZOFFSETFROM:+0000
TZOFFSETTO:+0000
END:STANDARD
END:VTIMEZONE
BEGIN:VEVENT
UID:7-6
DTSTAMP:20260420T082410Z
SUMMARY:9. Fortbildungsveranstaltung der Osthavelländischen Ortschronisten
LOCATION:Museum und Galerie Falkensee Falkenhagener Straße 77  Falkensee  
 14612
ORGANIZER;CN=brhiko.de:MAILTO:vinzenz.czech@uni-potsdam.de
DTSTART;TZID=Europe/Berlin:20251025T140000
DTEND;TZID=Europe/Berlin:20251025T180000
X-ALT-DESC;FMTTYPE=TEXT/HTML:U.a. Vortrag mit einem Vortrag von Prof. Klaus
  Neitmann (BrHiKo) über \"Spätmittelalterliche Quellen zu Falkenhagen un
 d Seegefeld\" Flyer (PDF)
CATEGORIES:General
URL;VALUE=URI:https://brhiko.de/mc-events/9-fortbildungsveranstaltung-der-o
 sthavellaendischen-ortschronisten/
METHOD:PUBLISH
END:VEVENT
END:VCALENDAR