﻿BEGIN:VCALENDAR
VERSION:2.0
PRODID:spatie/icalendar-generator
DESCRIPTION:Veranstaltungen von BrHiKo
X-WR-CALDESC:Veranstaltungen von BrHiKo
REFRESH-INTERVAL;VALUE=DURATION:PT1440M
X-PUBLISHED-TTL:PT1440M
BEGIN:VTIMEZONE
TZID:Europe/Berlin
BEGIN:STANDARD
DTSTART:20241027T030000Z
TZOFFSETFROM:+0200
TZOFFSETTO:+0100
END:STANDARD
BEGIN:DAYLIGHT
DTSTART:20250330T020000Z
TZOFFSETFROM:+0100
TZOFFSETTO:+0200
END:DAYLIGHT
END:VTIMEZONE
BEGIN:VTIMEZONE
TZID:UTC
BEGIN:STANDARD
DTSTART:20250725T082059Z
TZOFFSETFROM:+0000
TZOFFSETTO:+0000
END:STANDARD
END:VTIMEZONE
BEGIN:VEVENT
UID:5-4
DTSTAMP:20260421T082059Z
SUMMARY:Buchpräsentation - Die Stadt des 12. bis 16. Jahrhunderts in Brand
 enburg und Pommern - Urbane Zentralitäten im Vergleich
LOCATION:Dominikanerkloster Prenzlau\, \, Kleinkunstsaal Uckerwiek 813  Pre
 nzlau Brandenburg
ORGANIZER;CN=admin:MAILTO:jacobt@th-brandenburg.de
DTSTART;TZID=Europe/Berlin:20250131T180000
DTEND;TZID=Europe/Berlin:20250131T220000
X-ALT-DESC;FMTTYPE=TEXT/HTML:Flyer (PDF)
CATEGORIES:General
URL;VALUE=URI:https://brhiko.de/mc-events/buchpraesentation-die-stadt-des-1
 2-bis-16-jahrhunderts-in-brandenburg-und-pommern-urbane-zentralitaeten-im-
 vergleich/
METHOD:PUBLISH
END:VEVENT
END:VCALENDAR