﻿BEGIN:VCALENDAR
VERSION:2.0
PRODID:spatie/icalendar-generator
DESCRIPTION:Veranstaltungen von BrHiKo
X-WR-CALDESC:Veranstaltungen von BrHiKo
REFRESH-INTERVAL;VALUE=DURATION:PT1440M
X-PUBLISHED-TTL:PT1440M
BEGIN:VTIMEZONE
TZID:Europe/Berlin
BEGIN:STANDARD
DTSTART:20251026T030000Z
TZOFFSETFROM:+0200
TZOFFSETTO:+0100
END:STANDARD
BEGIN:DAYLIGHT
DTSTART:20260329T020000Z
TZOFFSETFROM:+0100
TZOFFSETTO:+0200
END:DAYLIGHT
END:VTIMEZONE
BEGIN:VTIMEZONE
TZID:UTC
BEGIN:STANDARD
DTSTART:20250724T083151Z
TZOFFSETFROM:+0000
TZOFFSETTO:+0000
END:STANDARD
END:VTIMEZONE
BEGIN:VEVENT
UID:20-15
DTSTAMP:20260420T083151Z
SUMMARY:Seminar: Zeitzeugeninterviews\, Einblick in die Vergangenheit – S
 timmen für die Zukunft
LOCATION:Museum und Galerie Falkensee Falkenhagener Straße 77  Falkensee  
 14612
ORGANIZER;CN=brhiko.de:MAILTO:vinzenz.czech@uni-potsdam.de
DTSTART;TZID=Europe/Berlin:20260321T140000
DTEND;TZID=Europe/Berlin:20260321T180000
X-ALT-DESC;FMTTYPE=TEXT/HTML:Der Arbeitskreis Osthavelländische Ortschroni
 sten\, der Freunde und Förderer von Museum und Galerie Falkensee und die 
 Beratungsstelle für ehrenamtliche Geschichtsarbeit in Brandenburg laden z
 u dieser Veranstaltung ein. In der Zeit zwischen 14:00 und 18:00 Uhr werde
 n die Ortschronisten Susanna Wurche (Wendisch Rietz\, Landkreis Oder-Spree
 ) und Rüdiger Wichmann (Dallgow-Döberitz\, Landkreis Havelland) im \"Mus
 eum &amp;amp\; Galerie\" in Falkensee&amp;hellip\;
CATEGORIES:General
URL;VALUE=URI:https://brhiko.de/mc-events/seminar-zeitzeugeninterviews-einb
 lick-in-die-vergangenheit-stimmen-fuer-die-zukunft/
METHOD:PUBLISH
END:VEVENT
END:VCALENDAR