﻿BEGIN:VCALENDAR
VERSION:2.0
PRODID:spatie/icalendar-generator
DESCRIPTION:Veranstaltungen von BrHiKo
X-WR-CALDESC:Veranstaltungen von BrHiKo
REFRESH-INTERVAL;VALUE=DURATION:PT1440M
X-PUBLISHED-TTL:PT1440M
BEGIN:VTIMEZONE
TZID:Europe/Berlin
BEGIN:STANDARD
DTSTART:20251026T030000Z
TZOFFSETFROM:+0200
TZOFFSETTO:+0100
END:STANDARD
BEGIN:DAYLIGHT
DTSTART:20260329T020000Z
TZOFFSETFROM:+0100
TZOFFSETTO:+0200
END:DAYLIGHT
BEGIN:STANDARD
DTSTART:20261025T030000Z
TZOFFSETFROM:+0200
TZOFFSETTO:+0100
END:STANDARD
END:VTIMEZONE
BEGIN:VTIMEZONE
TZID:UTC
BEGIN:STANDARD
DTSTART:20250724T082743Z
TZOFFSETFROM:+0000
TZOFFSETTO:+0000
END:STANDARD
END:VTIMEZONE
BEGIN:VEVENT
UID:19-14
DTSTAMP:20260420T082743Z
SUMMARY:Fachtagung - Burgen in Brandenburg und Pommern\, Mittelalterliche B
 efestigungen im Spannungsfeld von Landesherrschaft\, Adel und Stadt
LOCATION:Dominikanerkloster Prenzlau\, \, Kleinkunstsaal Uckerwiek 813  Pre
 nzlau Brandenburg
ORGANIZER;CN=brhiko.de:MAILTO:vinzenz.czech@uni-potsdam.de
DTSTART;TZID=Europe/Berlin;VALUE=DATE:20260612
DTEND;TZID=Europe/Berlin;VALUE=DATE:20260615
X-ALT-DESC;FMTTYPE=TEXT/HTML:FLYER (PDF)
CATEGORIES:General
URL;VALUE=URI:https://brhiko.de/mc-events/fachtagung-burgen-in-brandenburg-
 und-pommern-mittelalterliche-befestigungen-im-spannungsfeld-von-landesherr
 schaft-adel-und-stadt/
METHOD:PUBLISH
END:VEVENT
END:VCALENDAR